BEGIN:VCALENDAR
VERSION:2.0
PRODID:-//Tukios.com/
BEGIN:VEVENT
UID:ae244057-6c9d-4206-8c1a-64f308e7b7a3@www.smithfamilycares.com
DTSTAMP:20260420T180330Z
DTSTART:20260422T170000Z
DTEND:20260422T180000Z
SUMMARY:Visitation
DESCRIPTION:
URL:https://www.smithfamilycares.com/obituaries/billie-burns
LOCATION: 404 W Dewitt Henry Drive PO box 490 Beebe AR 72012
GEO:35.0816446;-91.8876417
END:VEVENT
END:VCALENDAR