BEGIN:VCALENDAR
VERSION:2.0
PRODID:-//Tukios.com/
BEGIN:VEVENT
UID:de1bcc5a-3bd0-4791-bd49-1c695d3d41fc@www.smithfamilycares.com
DTSTAMP:20260420T180510Z
DTSTART:20260422T180000Z
DTEND:20260422T190000Z
SUMMARY:Funeral Service
DESCRIPTION:
URL:https://www.smithfamilycares.com/obituaries/billie-burns
LOCATION: 404 W Dewitt Henry Drive PO box 490 Beebe AR 72012
GEO:35.0816446;-91.8876417
END:VEVENT
END:VCALENDAR