BEGIN:VCALENDAR
VERSION:2.0
PRODID:-//Tukios.com/
BEGIN:VEVENT
UID:337140c3-415a-40c5-8d83-374319ef0a03@www.smithfamilycares.com
DTSTAMP:20260420T180828Z
DTSTART:20260422
SUMMARY:Burial
DESCRIPTION:
URL:https://www.smithfamilycares.com/obituaries/billie-burns
LOCATION: AR-5  El Paso AR 72045
GEO:35.1218631;-92.093765
END:VEVENT
END:VCALENDAR