BEGIN:VCALENDAR
VERSION:2.0
PRODID:-//Tukios.com/
BEGIN:VEVENT
UID:2b9b0312-4cf1-4c48-9879-ae1cab5744cd@www.smithfamilycares.com
DTSTAMP:20260419T170608Z
DTSTART:20260422T180000Z
DTEND:20260422T190000Z
SUMMARY:Visitation
DESCRIPTION:
URL:https://www.smithfamilycares.com/obituaries/brenda-oneda-bridges
LOCATION: 322 N Market Street  Benton AR 72015
GEO:34.5664531;-92.5885187
END:VEVENT
END:VCALENDAR