BEGIN:VCALENDAR
VERSION:2.0
PRODID:-//Tukios.com/
BEGIN:VEVENT
UID:1ed4f86a-3f09-49e1-b5e0-9243d2a827fc@www.smithfamilycares.com
DTSTAMP:20260419T170938Z
DTSTART:20260422T190000Z
DTEND:20260422T200000Z
SUMMARY:Funeral Service
DESCRIPTION:
URL:https://www.smithfamilycares.com/obituaries/brenda-oneda-bridges
LOCATION: 322 N Market Street  Benton AR 72015
GEO:34.5664531;-92.5885187
END:VEVENT
END:VCALENDAR