BEGIN:VCALENDAR
VERSION:2.0
PRODID:-//Tukios.com/
BEGIN:VEVENT
UID:f509b803-c281-4f10-848b-00593d5c1ec8@www.smithfamilycares.com
DTSTAMP:20260421T030610Z
DTSTART:20260423T160000Z
DTEND:20260423T170000Z
SUMMARY:Visitation
DESCRIPTION:
URL:https://www.smithfamilycares.com/obituaries/cathy-weston
LOCATION:Smith-Benton Funeral Home 322 North Market Street  Benton AR 
	72015
GEO:34.5664531;-92.5885187
END:VEVENT
END:VCALENDAR