BEGIN:VCALENDAR
VERSION:2.0
PRODID:-//Tukios.com/
BEGIN:VEVENT
UID:49669d67-5761-4b78-8497-29f23171b204@www.smithfamilycares.com
DTSTAMP:20260421T030120Z
DTSTART:20260423T170000Z
DTEND:20260423T180000Z
SUMMARY:Funeral Service
DESCRIPTION:
URL:https://www.smithfamilycares.com/obituaries/cathy-weston
LOCATION:Smith-Benton Funeral Home 322 North Market Street  Benton AR 
	72015
GEO:34.5664531;-92.5885187
END:VEVENT
END:VCALENDAR