BEGIN:VCALENDAR
VERSION:2.0
PRODID:-//Tukios.com/
BEGIN:VEVENT
UID:d1ff465b-f7a8-4bbf-8ea5-2258c186138b@www.smithfamilycares.com
DTSTAMP:20260422T204356Z
DTSTART:20260501T230000Z
DTEND:20260502T003000Z
SUMMARY:Visitation
DESCRIPTION:
URL:https://www.smithfamilycares.com/obituaries/charles-hearn
LOCATION:Smith North Little Rock Funeral Home 1921 Main Street  North 
	Little Rock AR 72114
GEO:34.7729879;-92.2674427
END:VEVENT
END:VCALENDAR