BEGIN:VCALENDAR
VERSION:2.0
PRODID:-//Tukios.com/
BEGIN:VEVENT
UID:39407e14-6b80-4ad3-ad40-108a5466f17c@www.smithfamilycares.com
DTSTAMP:20260422T204021Z
DTSTART:20260502T003000Z
DTEND:20260502T013000Z
SUMMARY:Funeral Service
DESCRIPTION:
URL:https://www.smithfamilycares.com/obituaries/charles-hearn
LOCATION:Smith North Little Rock Funeral Home 1921 Main Street  North 
	Little Rock AR 72114
GEO:34.7729879;-92.2674427
END:VEVENT
END:VCALENDAR