BEGIN:VCALENDAR
VERSION:2.0
PRODID:-//Tukios.com/
BEGIN:VEVENT
UID:34db4421-0cbf-4c5e-afa5-a5ef12920720@www.smithfamilycares.com
DTSTAMP:20260421T221658Z
DTSTART:20260428T230000Z
DTEND:20260429T010000Z
SUMMARY:Visitation
DESCRIPTION:
URL:https://www.smithfamilycares.com/obituaries/clayton-davis
LOCATION:Smith-Westbrook Funeral Home 404 West DeWitt Henry Drive  Beebe 
	AR 72012
GEO:35.0816446;-91.8876417
END:VEVENT
END:VCALENDAR