BEGIN:VCALENDAR
VERSION:2.0
PRODID:-//Tukios.com/
BEGIN:VEVENT
UID:8126bd98-baf2-40ba-b912-2633a2aab30b@www.smithfamilycares.com
DTSTAMP:20260421T221140Z
DTSTART:20260429T190000Z
DTEND:20260429T200000Z
SUMMARY:Funeral Service
DESCRIPTION:
URL:https://www.smithfamilycares.com/obituaries/clayton-davis
LOCATION:Smith-Westbrook Funeral Home 404 West DeWitt Henry Drive  Beebe 
	AR 72012
GEO:35.0816446;-91.8876417
END:VEVENT
END:VCALENDAR