BEGIN:VCALENDAR
VERSION:2.0
PRODID:-//Tukios.com/
BEGIN:VEVENT
UID:a04ac7ca-e3b5-4962-96cb-eaad7afb5d49@www.smithfamilycares.com
DTSTAMP:20260422T213252Z
DTSTART:20260424T160000Z
DTEND:20260424T170000Z
SUMMARY:Funeral Service
DESCRIPTION:
URL:https://www.smithfamilycares.com/obituaries/evelyn-ison
LOCATION:Apostolic Church 4314 Landers Road  North Little Rock AR 72117
GEO:34.7951787;-92.2192087
END:VEVENT
END:VCALENDAR