BEGIN:VCALENDAR
VERSION:2.0
PRODID:-//Tukios.com/
BEGIN:VEVENT
UID:9384e247-b11c-45db-9cc6-75697c416924@www.smithfamilycares.com
DTSTAMP:20260424T220153Z
DTSTART:20260430T160000Z
DTEND:20260430T170000Z
SUMMARY:Visitation
DESCRIPTION:
URL:https://www.smithfamilycares.com/obituaries/gary-french
LOCATION:Smith North Little Rock Funeral Home 1921 Main Street  North 
	Little Rock AR 72114
GEO:34.7729879;-92.2674427
END:VEVENT
END:VCALENDAR