BEGIN:VCALENDAR
VERSION:2.0
PRODID:-//Tukios.com/
BEGIN:VEVENT
UID:85ec023f-6c9e-44d4-83c3-9b6e0a3f44af@www.smithfamilycares.com
DTSTAMP:20260424T220042Z
DTSTART:20260430T170000Z
DTEND:20260430T180000Z
SUMMARY:Memorial Service
DESCRIPTION:
URL:https://www.smithfamilycares.com/obituaries/gary-french
LOCATION:Smith North Little Rock Funeral Home 1921 Main Street  North 
	Little Rock AR 72114
GEO:34.7729879;-92.2674427
END:VEVENT
END:VCALENDAR