BEGIN:VCALENDAR
VERSION:2.0
PRODID:-//Tukios.com/
BEGIN:VEVENT
UID:8d1991ff-db39-408f-8edb-76f20b46d915@www.smithfamilycares.com
DTSTAMP:20260424T190727Z
DTSTART:20260505T200000Z
DTEND:20260505T210000Z
SUMMARY:Memorial Service
DESCRIPTION:
URL:https://www.smithfamilycares.com/obituaries/james-a-coffman
LOCATION:Smith Family Funeral Home 2205 Airport Road  Hot Springs AR 
	71913
GEO:34.4554879;-93.1619182
END:VEVENT
END:VCALENDAR