BEGIN:VCALENDAR
VERSION:2.0
PRODID:-//Tukios.com/
BEGIN:VEVENT
UID:7fa3397e-65b7-4ff8-a219-f20e71eaca03@www.smithfamilycares.com
DTSTAMP:20260424T200855Z
DTSTART:20260429T150000Z
DTEND:20260429T170000Z
SUMMARY:Visitation
DESCRIPTION:
URL:https://www.smithfamilycares.com/obituaries/lawrence-larry-baltz
LOCATION:Smith-Benton Funeral Home 322 North Market Street  Benton AR 
	72015
GEO:34.5664531;-92.5885187
END:VEVENT
END:VCALENDAR