BEGIN:VCALENDAR
VERSION:2.0
PRODID:-//Tukios.com/
BEGIN:VEVENT
UID:3600ddc4-6ec5-4065-94bc-c1ddfb96c485@www.smithfamilycares.com
DTSTAMP:20260423T164131Z
DTSTART:20260423T220000Z
DTEND:20260424T000000Z
SUMMARY:Visitation
DESCRIPTION:
URL:https://www.smithfamilycares.com/obituaries/marcos-saravia
LOCATION: 2205 Airport Road  Hot Springs AR 71913
GEO:34.4554879;-93.1619182
END:VEVENT
END:VCALENDAR