BEGIN:VCALENDAR
VERSION:2.0
PRODID:-//Tukios.com/
BEGIN:VEVENT
UID:abe90be2-490c-4a6a-ac16-b8c9afe69b90@www.smithfamilycares.com
DTSTAMP:20260423T164123Z
DTSTART:20260424T190000Z
DTEND:20260424T200000Z
SUMMARY:Funeral Service
DESCRIPTION:
URL:https://www.smithfamilycares.com/obituaries/marcos-saravia
LOCATION: 2205 Airport Road  Hot Springs AR 71913
GEO:34.4554879;-93.1619182
END:VEVENT
END:VCALENDAR