BEGIN:VCALENDAR
VERSION:2.0
PRODID:-//Tukios.com/
BEGIN:VEVENT
UID:fe584985-6ae2-4848-89b1-0512a416c993@www.smithfamilycares.com
DTSTAMP:20260420T234724Z
DTSTART:20260422T223000Z
DTEND:20260423T003000Z
SUMMARY:Visitation
DESCRIPTION:
URL:https://www.smithfamilycares.com/obituaries/maria-kuntz-crone
LOCATION:Smith Family Funeral Home -Hot Springs Chapel 2205 Airport Road  
	Hot Springs AR 71913
GEO:34.4554879;-93.1619182
END:VEVENT
END:VCALENDAR