BEGIN:VCALENDAR
VERSION:2.0
PRODID:-//Tukios.com/
BEGIN:VEVENT
UID:750bfe0d-4d70-4793-8524-57b699773fbc@www.smithfamilycares.com
DTSTAMP:20260420T223840Z
DTSTART:20260423T150000Z
DTEND:20260424T040000Z
SUMMARY:Visitation
DESCRIPTION:
URL:https://www.smithfamilycares.com/obituaries/mary-newman-walker
LOCATION:Mars Hill Church of Christ 20 County Line Rd. S.  Vilonia AR 
	72173
GEO:35.1026541;-92.1190211
END:VEVENT
END:VCALENDAR