BEGIN:VCALENDAR
VERSION:2.0
PRODID:-//Tukios.com/
BEGIN:VEVENT
UID:c7722689-7b86-4689-b33e-790e4a8d7f65@www.smithfamilycares.com
DTSTAMP:20260420T224350Z
DTSTART:20260423T160000Z
DTEND:20260423T170000Z
SUMMARY:Funeral Service
DESCRIPTION:
URL:https://www.smithfamilycares.com/obituaries/mary-newman-walker
LOCATION:Mars Hill Church of Christ 20 County Line Rd. S.  Vilonia AR 
	72173
GEO:35.1026541;-92.1190211
END:VEVENT
END:VCALENDAR