BEGIN:VCALENDAR
VERSION:2.0
PRODID:-//Tukios.com/
BEGIN:VEVENT
UID:7a6b7da9-aae3-4297-be15-dad01d0f926a@www.smithfamilycares.com
DTSTAMP:20260420T224529Z
DTSTART:20260423
SUMMARY:Burial
DESCRIPTION:
URL:https://www.smithfamilycares.com/obituaries/mary-newman-walker
LOCATION:Oliver Cemetery Cemetery Road South  Mount Vernon AR 72111
GEO:35.2306152;-92.1298212
END:VEVENT
END:VCALENDAR