BEGIN:VCALENDAR
VERSION:2.0
PRODID:-//Tukios.com/
BEGIN:VEVENT
UID:cf55bb7c-acc2-4bf9-812f-1a57dfa97d76@www.smithfamilycares.com
DTSTAMP:20260422T190650Z
DTSTART:20260423T230000Z
DTEND:20260424T010000Z
SUMMARY:Visitation
DESCRIPTION:
URL:https://www.smithfamilycares.com/obituaries/renee-cummins
LOCATION: 1719 Robinson Avenue  Conway AR 72034
GEO:35.0877556;-92.4475348
END:VEVENT
END:VCALENDAR