BEGIN:VCALENDAR
VERSION:2.0
PRODID:-//Tukios.com/
BEGIN:VEVENT
UID:bea4e625-56fb-43e0-9a99-48c2c747961f@www.smithfamilycares.com
DTSTAMP:20260422T190918Z
DTSTART:20260424T183000Z
DTEND:20260424T193000Z
SUMMARY:Funeral Service
DESCRIPTION:
URL:https://www.smithfamilycares.com/obituaries/renee-cummins
LOCATION: 1719 Robinson Avenue  Conway AR 72034
GEO:35.0877556;-92.4475348
END:VEVENT
END:VCALENDAR