BEGIN:VCALENDAR
VERSION:2.0
PRODID:-//Tukios.com/
BEGIN:VEVENT
UID:71d7f078-525d-4bba-83ed-65a0d8d924b6@www.smithfamilycares.com
DTSTAMP:20260422T190336Z
DTSTART:20260424T194500Z
DTEND:20260424T204500Z
SUMMARY:Burial
DESCRIPTION:
URL:https://www.smithfamilycares.com/obituaries/renee-cummins
LOCATION:    Conway AR 72033
GEO:35.089701;-92.4392497
END:VEVENT
END:VCALENDAR