BEGIN:VCALENDAR
VERSION:2.0
PRODID:-//Tukios.com/
BEGIN:VEVENT
UID:c92df0f7-c719-43c5-b39a-5bfaf3433ce6@www.smithfamilycares.com
DTSTAMP:20260424T205217Z
DTSTART:20260427T220000Z
DTEND:20260428T000000Z
SUMMARY:Visitation
DESCRIPTION:
URL:https://www.smithfamilycares.com/obituaries/robin-mitchell
LOCATION: 209 North 3rd Street  Glenwood AR 71943
GEO:34.3277267;-93.5507104
END:VEVENT
END:VCALENDAR