BEGIN:VCALENDAR
VERSION:2.0
PRODID:-//Tukios.com/
BEGIN:VEVENT
UID:e89da183-cddc-462f-84b8-cfe4d90eaa47@www.smithfamilycares.com
DTSTAMP:20260424T204758Z
DTSTART:20260428T190000Z
DTEND:20260428T200000Z
SUMMARY:Funeral Service
DESCRIPTION:
URL:https://www.smithfamilycares.com/obituaries/robin-mitchell
LOCATION: 904 US-70  Glenwood AR 71943
GEO:34.3117859;-93.6168333
END:VEVENT
END:VCALENDAR