BEGIN:VCALENDAR
VERSION:2.0
PRODID:-//Tukios.com/
BEGIN:VEVENT
UID:bffc5354-25fb-40d9-ba1f-af8929cb478e@www.smithfamilycares.com
DTSTAMP:20260422T234526Z
DTSTART:20260425T190000Z
DTEND:20260425T200000Z
SUMMARY:Memorial Service
DESCRIPTION:
URL:https://www.smithfamilycares.com/obituaries/walter-rolland-pollich
LOCATION:Family Church Bryant 21815 Interstate 30 Frontage Road  Bryant 
	AR 72022
GEO:34.610044;-92.5157584
END:VEVENT
END:VCALENDAR