BEGIN:VCALENDAR
VERSION:2.0
PRODID:-//Tukios.com/
BEGIN:VEVENT
UID:35f81e0d-e287-4b35-8d43-3cbdf756d9cc@www.smithfamilycares.com
DTSTAMP:20260422T234749Z
DTSTART:20260425T180000Z
DTEND:20260425T190000Z
SUMMARY:Visitation
DESCRIPTION:
URL:https://www.smithfamilycares.com/obituaries/walter-rolland-pollich
LOCATION:Family Church Bryant 21815 Interstate 30 Frontage Road  Bryant 
	AR 72022
GEO:34.610044;-92.5157584
END:VEVENT
END:VCALENDAR